BEGIN:VCALENDAR
VERSION:2.0
PRODID:-//hacksw/handcal//NONSGML v1.0//EN
BEGIN:VEVENT
SUMMARY:Fin de saison sportive
UID:7cdbf240-8bf6-4ef0-9ead-05882d32749c
DTSTART:20260703T153000Z
DTEND:20260703T183000Z
LOCATION:complexe fernand velon 161 rue boullay 71000 Macon
CATEGORIES:Administratif
STATUS:
URL;VALUE=URI:https://www.mlo-71.com/evenements/2026/07/03/fin-de-saison-sportive-2420790
END:VEVENT
END:VCALENDAR
