BEGIN:VCALENDAR
VERSION:2.0
PRODID:-//hacksw/handcal//NONSGML v1.0//EN
BEGIN:VEVENT
SUMMARY:Championnat BFC libre et greco Seniors
UID:29c03147-1aa1-4341-9d0c-bc1e0586daa0
DTSTART:20260329T070000Z
DTEND:20260329T230000Z
LOCATION:Localisation pole sportif des montboucons 25000 besancon
CATEGORIES:Sportif
STATUS:
DESCRIPTION:<p>Informations concernant les championnats regionaux
 U15/U17/U20 en Lutte Libre et Senior dans les 3 styles sur le
 week-end du 28 et 29 mars prochain.</p>
 
 <p>Lieu de l'evenement :
 Pole sportif des Montboucons</p>
 
 <p>3 avenue des Montboucons 25 000
 BESANCON</p>
 
 <p>Informations concernant les championnats regionaux
 U15/U17/U20 en Lutte Libre et Senior dans les 3 styles sur le
 week-end du 28 et 29 mars prochain.</p>
 
 <p>Lieu de l'evenement :
 Pole sportif des Montboucons</p>
 
 <p>3 avenue des Montboucons 25 000
 BESANCON</p>
 
 <p>▶️ Championnats regionaux <b>U15/U17/U20 lutte
 Libre</b></p>
 
 <p>↪️ <b>Samedi 28
 mars</b></p>
 
 <ul>
 	<li>
 	<p>Pesee de 9h a
 9h30</p>
 	</li>
 	<li>
 	<p>Debut de la competition vers
 10h30</p>
 	</li>
 </ul>
 
 <p>▶️ Championnats regionaux <b>Senior
 lutte Feminine / Libre /
 Greco-romaine</b></p>
 
 <p>↪️ <b>Dimanche 29
 mars</b></p>
 
 <ul>
 	<li>
 	<p>Pesee de 9h a
 9h30</p>
 	</li>
 	<li>
 	<p>Debut de la competition vers
 10h30</p>
 	</li>
 </ul>
 
 <p>Inscription <u><strong>AU PLUS
 TARD</strong></u> sur l'extranet federal<span
 style="color:#c0392b;"><strong> jusqu'au lundi 23 mars avec POIDS
 OBLIGATOIRE a la meme date !!</strong></span></p>
 
 <p>La competition
 sera geree sur smoothcomp.</p>
 
 <p>Les entraineurs devront posseder
 au moins le BF2 pour accompagner les lutteurs dans l'air de
 competition.</p>
URL;VALUE=URI:https://www.mlo-71.com/evenements/2026/03/29/championnat-bfc-libre-et-greco-seniors-2419339
END:VEVENT
END:VCALENDAR
