BEGIN:VCALENDAR
VERSION:2.0
PRODID:-//hacksw/handcal//NONSGML v1.0//EN
BEGIN:VEVENT
SUMMARY:Championnat BFC libre U15 a U20
UID:128ab9f7-f08c-48b7-8696-ee0c9f45d0e9
DTSTART:20260328T080000Z
DTEND:20260328T230000Z
LOCATION:Localisation pole sportif des montboucons 25000 besancon
CATEGORIES:Sportif
STATUS:
DESCRIPTION:<p>Informations concernant les championnats regionaux
 U15/U17/U20 en Lutte Libre et Senior dans les 3 styles sur le
 week-end du 28 et 29 mars prochain.</p>
 
 <p>Lieu de l'evenement :
 Pole sportif des Montboucons</p>
 
 <p>3 avenue des Montboucons 25 000
 BESANCON</p>
 
 <p>Informations concernant les championnats regionaux
 U15/U17/U20 en Lutte Libre et Senior dans les 3 styles sur le
 week-end du 28 et 29 mars prochain.</p>
 
 <p>Lieu de l'evenement :
 Pole sportif des Montboucons</p>
 
 <p>3 avenue des Montboucons 25 000
 BESANCON</p>
 
 <p>▶️ Championnats regionaux <b>U15/U17/U20 lutte
 Libre</b></p>
 
 <p>↪️ <b>Samedi 28
 mars</b></p>
 
 <ul>
 	<li>
 	<p>Pesee de 9h a
 9h30</p>
 	</li>
 	<li>
 	<p>Debut de la competition vers
 10h30</p>
 	</li>
 </ul>
 
 <ul>
 	<li>Inscription sur l'extranet federal
 jusqu'au lundi 23 mars.</li>
 </ul>
 
 <p>La competition sera geree sur
 smoothcomp.</p>
 
 <p>Les entraineurs devront posseder au moins le BF2
 pour accompagner les lutteurs dans l'air de
 competition.</p>
 
 <p>Inscription sur l'extranet federal jusqu'au
 <span style="color:#e74c3c;"><strong>lundi 23 mars avec <u>POIDS
 OBLIGATOIRE</u></strong></span></p>
 
 <p>La competition sera geree sur
 smoothcomp.</p>
 
 <p>7 places possible en COVOITURAGE - Demander a
 l'inscription.</p>
URL;VALUE=URI:https://www.mlo-71.com/evenements/2026/03/28/championnat-bfc-libre-u15-a-u20-2419337
END:VEVENT
END:VCALENDAR
